Workbook
Name 基本給: 'ルール表'!$D$5
Name 支給項目数: 'ルール表'!$D$8
Name 日当: 'ルール表'!$D$9
Name 加算: 'ルール表'!$D$10
Name 基準日: '日報確認表'!$B$2

Sheet ルール表
A1: さんのお小遣いルール
A2: ( )年( )月から使います。黄色のマスを、家族で話し合って書きかえてください
A4: 基本給(毎月もらえる)
A5: 毎月の金額 | E5: 円 / 月
A7: 日当手当(毎日のがんばり)
A8: 「必須」をすべてクリアして、この数以上できたら | E8: 項目以上
A9: 1日の日当 | E9: 円
A10: それより多くできたら、1項目ごとに | E10: 円 加算
A12: No. | B12: 項目 | C12: やること | D12: 必須?
A13: 1
A14: 2
A15: 3
A16: 4
A17: 5
A19: 特別手当(テストや表彰など、たまにあるごほうび)
A20: 点数 | C20: 小テスト(円) | D20: 大きなテスト(円)
A21: 点以上
A22: 点以上
A23: 点以上
A24: 100点
A25: 表彰・賞状
A26: 日報確認表の「特別手当」の欄に、その日の金額を書きます
A28: しめ日と支払日
A29: しめ日
A30: 支払日
A32: 本人のサイン:____________________ 保護者のサイン:____________________
A33: わが家の例(基本給800円・日当100円など)は「ナッツのやりくり帳」の記事で紹介しています

Sheet 日報確認表
A1: 日報確認表
A2: 月の初日 | E2: 名前
A3: できた項目にシールをはるか○を入れる(8mmくらいの丸シールがちょうどいい)。○を入れると日当が自動で計算されます
A4: 日付 | B4: 曜日 | C4: 日当手当(できたら○) | H4: 特別手当(円) | I4: 小計(円)
C5: =IF('ルール表'!B13="","",'ルール表'!B13) | D5: =IF('ルール表'!B14="","",'ルール表'!B14) | E5: =IF('ルール表'!B15="","",'ルール表'!B15) | F5: =IF('ルール表'!B16="","",'ルール表'!B16) | G5: =IF('ルール表'!B17="","",'ルール表'!B17)
C6: ='ルール表'!D13&"" | D6: ='ルール表'!D14&"" | E6: ='ルール表'!D15&"" | F6: ='ルール表'!D16&"" | G6: ='ルール表'!D17&""
A7: =IF(基準日="","1",基準日) | B7: =IF(OR(A7="",基準日=""),"",MID("日月火水木金土",WEEKDAY(A7),1)) | I7: =IF(A7="","",IF(AND(SUMPRODUCT(($C$6:$G$6="必須")*(C7:G7<>""))=COUNTIF($C$6:$G$6,"必須"),COUNTIF(C7:G7,"○")>=支給項目数),日当+(COUNTIF(C7:G7,"○")-支給項目数)*加算,0)+N(H7))
A8: =IF(基準日="","2",IF(A7="","",IF(MONTH(A7+1)=MONTH(基準日),A7+1,""))) | B8: =IF(OR(A8="",基準日=""),"",MID("日月火水木金土",WEEKDAY(A8),1)) | I8: =IF(A8="","",IF(AND(SUMPRODUCT(($C$6:$G$6="必須")*(C8:G8<>""))=COUNTIF($C$6:$G$6,"必須"),COUNTIF(C8:G8,"○")>=支給項目数),日当+(COUNTIF(C8:G8,"○")-支給項目数)*加算,0)+N(H8))
A9: =IF(基準日="","3",IF(A8="","",IF(MONTH(A8+1)=MONTH(基準日),A8+1,""))) | B9: =IF(OR(A9="",基準日=""),"",MID("日月火水木金土",WEEKDAY(A9),1)) | I9: =IF(A9="","",IF(AND(SUMPRODUCT(($C$6:$G$6="必須")*(C9:G9<>""))=COUNTIF($C$6:$G$6,"必須"),COUNTIF(C9:G9,"○")>=支給項目数),日当+(COUNTIF(C9:G9,"○")-支給項目数)*加算,0)+N(H9))
A10: =IF(基準日="","4",IF(A9="","",IF(MONTH(A9+1)=MONTH(基準日),A9+1,""))) | B10: =IF(OR(A10="",基準日=""),"",MID("日月火水木金土",WEEKDAY(A10),1)) | I10: =IF(A10="","",IF(AND(SUMPRODUCT(($C$6:$G$6="必須")*(C10:G10<>""))=COUNTIF($C$6:$G$6,"必須"),COUNTIF(C10:G10,"○")>=支給項目数),日当+(COUNTIF(C10:G10,"○")-支給項目数)*加算,0)+N(H10))
A11: =IF(基準日="","5",IF(A10="","",IF(MONTH(A10+1)=MONTH(基準日),A10+1,""))) | B11: =IF(OR(A11="",基準日=""),"",MID("日月火水木金土",WEEKDAY(A11),1)) | I11: =IF(A11="","",IF(AND(SUMPRODUCT(($C$6:$G$6="必須")*(C11:G11<>""))=COUNTIF($C$6:$G$6,"必須"),COUNTIF(C11:G11,"○")>=支給項目数),日当+(COUNTIF(C11:G11,"○")-支給項目数)*加算,0)+N(H11))
A12: =IF(基準日="","6",IF(A11="","",IF(MONTH(A11+1)=MONTH(基準日),A11+1,""))) | B12: =IF(OR(A12="",基準日=""),"",MID("日月火水木金土",WEEKDAY(A12),1)) | I12: =IF(A12="","",IF(AND(SUMPRODUCT(($C$6:$G$6="必須")*(C12:G12<>""))=COUNTIF($C$6:$G$6,"必須"),COUNTIF(C12:G12,"○")>=支給項目数),日当+(COUNTIF(C12:G12,"○")-支給項目数)*加算,0)+N(H12))
A13: =IF(基準日="","7",IF(A12="","",IF(MONTH(A12+1)=MONTH(基準日),A12+1,""))) | B13: =IF(OR(A13="",基準日=""),"",MID("日月火水木金土",WEEKDAY(A13),1)) | I13: =IF(A13="","",IF(AND(SUMPRODUCT(($C$6:$G$6="必須")*(C13:G13<>""))=COUNTIF($C$6:$G$6,"必須"),COUNTIF(C13:G13,"○")>=支給項目数),日当+(COUNTIF(C13:G13,"○")-支給項目数)*加算,0)+N(H13))
A14: =IF(基準日="","8",IF(A13="","",IF(MONTH(A13+1)=MONTH(基準日),A13+1,""))) | B14: =IF(OR(A14="",基準日=""),"",MID("日月火水木金土",WEEKDAY(A14),1)) | I14: =IF(A14="","",IF(AND(SUMPRODUCT(($C$6:$G$6="必須")*(C14:G14<>""))=COUNTIF($C$6:$G$6,"必須"),COUNTIF(C14:G14,"○")>=支給項目数),日当+(COUNTIF(C14:G14,"○")-支給項目数)*加算,0)+N(H14))
A15: =IF(基準日="","9",IF(A14="","",IF(MONTH(A14+1)=MONTH(基準日),A14+1,""))) | B15: =IF(OR(A15="",基準日=""),"",MID("日月火水木金土",WEEKDAY(A15),1)) | I15: =IF(A15="","",IF(AND(SUMPRODUCT(($C$6:$G$6="必須")*(C15:G15<>""))=COUNTIF($C$6:$G$6,"必須"),COUNTIF(C15:G15,"○")>=支給項目数),日当+(COUNTIF(C15:G15,"○")-支給項目数)*加算,0)+N(H15))
A16: =IF(基準日="","10",IF(A15="","",IF(MONTH(A15+1)=MONTH(基準日),A15+1,""))) | B16: =IF(OR(A16="",基準日=""),"",MID("日月火水木金土",WEEKDAY(A16),1)) | I16: =IF(A16="","",IF(AND(SUMPRODUCT(($C$6:$G$6="必須")*(C16:G16<>""))=COUNTIF($C$6:$G$6,"必須"),COUNTIF(C16:G16,"○")>=支給項目数),日当+(COUNTIF(C16:G16,"○")-支給項目数)*加算,0)+N(H16))
A17: =IF(基準日="","11",IF(A16="","",IF(MONTH(A16+1)=MONTH(基準日),A16+1,""))) | B17: =IF(OR(A17="",基準日=""),"",MID("日月火水木金土",WEEKDAY(A17),1)) | I17: =IF(A17="","",IF(AND(SUMPRODUCT(($C$6:$G$6="必須")*(C17:G17<>""))=COUNTIF($C$6:$G$6,"必須"),COUNTIF(C17:G17,"○")>=支給項目数),日当+(COUNTIF(C17:G17,"○")-支給項目数)*加算,0)+N(H17))
A18: =IF(基準日="","12",IF(A17="","",IF(MONTH(A17+1)=MONTH(基準日),A17+1,""))) | B18: =IF(OR(A18="",基準日=""),"",MID("日月火水木金土",WEEKDAY(A18),1)) | I18: =IF(A18="","",IF(AND(SUMPRODUCT(($C$6:$G$6="必須")*(C18:G18<>""))=COUNTIF($C$6:$G$6,"必須"),COUNTIF(C18:G18,"○")>=支給項目数),日当+(COUNTIF(C18:G18,"○")-支給項目数)*加算,0)+N(H18))
A19: =IF(基準日="","13",IF(A18="","",IF(MONTH(A18+1)=MONTH(基準日),A18+1,""))) | B19: =IF(OR(A19="",基準日=""),"",MID("日月火水木金土",WEEKDAY(A19),1)) | I19: =IF(A19="","",IF(AND(SUMPRODUCT(($C$6:$G$6="必須")*(C19:G19<>""))=COUNTIF($C$6:$G$6,"必須"),COUNTIF(C19:G19,"○")>=支給項目数),日当+(COUNTIF(C19:G19,"○")-支給項目数)*加算,0)+N(H19))
A20: =IF(基準日="","14",IF(A19="","",IF(MONTH(A19+1)=MONTH(基準日),A19+1,""))) | B20: =IF(OR(A20="",基準日=""),"",MID("日月火水木金土",WEEKDAY(A20),1)) | I20: =IF(A20="","",IF(AND(SUMPRODUCT(($C$6:$G$6="必須")*(C20:G20<>""))=COUNTIF($C$6:$G$6,"必須"),COUNTIF(C20:G20,"○")>=支給項目数),日当+(COUNTIF(C20:G20,"○")-支給項目数)*加算,0)+N(H20))
A21: =IF(基準日="","15",IF(A20="","",IF(MONTH(A20+1)=MONTH(基準日),A20+1,""))) | B21: =IF(OR(A21="",基準日=""),"",MID("日月火水木金土",WEEKDAY(A21),1)) | I21: =IF(A21="","",IF(AND(SUMPRODUCT(($C$6:$G$6="必須")*(C21:G21<>""))=COUNTIF($C$6:$G$6,"必須"),COUNTIF(C21:G21,"○")>=支給項目数),日当+(COUNTIF(C21:G21,"○")-支給項目数)*加算,0)+N(H21))
A22: =IF(基準日="","16",IF(A21="","",IF(MONTH(A21+1)=MONTH(基準日),A21+1,""))) | B22: =IF(OR(A22="",基準日=""),"",MID("日月火水木金土",WEEKDAY(A22),1)) | I22: =IF(A22="","",IF(AND(SUMPRODUCT(($C$6:$G$6="必須")*(C22:G22<>""))=COUNTIF($C$6:$G$6,"必須"),COUNTIF(C22:G22,"○")>=支給項目数),日当+(COUNTIF(C22:G22,"○")-支給項目数)*加算,0)+N(H22))
A23: =IF(基準日="","17",IF(A22="","",IF(MONTH(A22+1)=MONTH(基準日),A22+1,""))) | B23: =IF(OR(A23="",基準日=""),"",MID("日月火水木金土",WEEKDAY(A23),1)) | I23: =IF(A23="","",IF(AND(SUMPRODUCT(($C$6:$G$6="必須")*(C23:G23<>""))=COUNTIF($C$6:$G$6,"必須"),COUNTIF(C23:G23,"○")>=支給項目数),日当+(COUNTIF(C23:G23,"○")-支給項目数)*加算,0)+N(H23))
A24: =IF(基準日="","18",IF(A23="","",IF(MONTH(A23+1)=MONTH(基準日),A23+1,""))) | B24: =IF(OR(A24="",基準日=""),"",MID("日月火水木金土",WEEKDAY(A24),1)) | I24: =IF(A24="","",IF(AND(SUMPRODUCT(($C$6:$G$6="必須")*(C24:G24<>""))=COUNTIF($C$6:$G$6,"必須"),COUNTIF(C24:G24,"○")>=支給項目数),日当+(COUNTIF(C24:G24,"○")-支給項目数)*加算,0)+N(H24))
A25: =IF(基準日="","19",IF(A24="","",IF(MONTH(A24+1)=MONTH(基準日),A24+1,""))) | B25: =IF(OR(A25="",基準日=""),"",MID("日月火水木金土",WEEKDAY(A25),1)) | I25: =IF(A25="","",IF(AND(SUMPRODUCT(($C$6:$G$6="必須")*(C25:G25<>""))=COUNTIF($C$6:$G$6,"必須"),COUNTIF(C25:G25,"○")>=支給項目数),日当+(COUNTIF(C25:G25,"○")-支給項目数)*加算,0)+N(H25))
A26: =IF(基準日="","20",IF(A25="","",IF(MONTH(A25+1)=MONTH(基準日),A25+1,""))) | B26: =IF(OR(A26="",基準日=""),"",MID("日月火水木金土",WEEKDAY(A26),1)) | I26: =IF(A26="","",IF(AND(SUMPRODUCT(($C$6:$G$6="必須")*(C26:G26<>""))=COUNTIF($C$6:$G$6,"必須"),COUNTIF(C26:G26,"○")>=支給項目数),日当+(COUNTIF(C26:G26,"○")-支給項目数)*加算,0)+N(H26))
A27: =IF(基準日="","21",IF(A26="","",IF(MONTH(A26+1)=MONTH(基準日),A26+1,""))) | B27: =IF(OR(A27="",基準日=""),"",MID("日月火水木金土",WEEKDAY(A27),1)) | I27: =IF(A27="","",IF(AND(SUMPRODUCT(($C$6:$G$6="必須")*(C27:G27<>""))=COUNTIF($C$6:$G$6,"必須"),COUNTIF(C27:G27,"○")>=支給項目数),日当+(COUNTIF(C27:G27,"○")-支給項目数)*加算,0)+N(H27))
A28: =IF(基準日="","22",IF(A27="","",IF(MONTH(A27+1)=MONTH(基準日),A27+1,""))) | B28: =IF(OR(A28="",基準日=""),"",MID("日月火水木金土",WEEKDAY(A28),1)) | I28: =IF(A28="","",IF(AND(SUMPRODUCT(($C$6:$G$6="必須")*(C28:G28<>""))=COUNTIF($C$6:$G$6,"必須"),COUNTIF(C28:G28,"○")>=支給項目数),日当+(COUNTIF(C28:G28,"○")-支給項目数)*加算,0)+N(H28))
A29: =IF(基準日="","23",IF(A28="","",IF(MONTH(A28+1)=MONTH(基準日),A28+1,""))) | B29: =IF(OR(A29="",基準日=""),"",MID("日月火水木金土",WEEKDAY(A29),1)) | I29: =IF(A29="","",IF(AND(SUMPRODUCT(($C$6:$G$6="必須")*(C29:G29<>""))=COUNTIF($C$6:$G$6,"必須"),COUNTIF(C29:G29,"○")>=支給項目数),日当+(COUNTIF(C29:G29,"○")-支給項目数)*加算,0)+N(H29))
A30: =IF(基準日="","24",IF(A29="","",IF(MONTH(A29+1)=MONTH(基準日),A29+1,""))) | B30: =IF(OR(A30="",基準日=""),"",MID("日月火水木金土",WEEKDAY(A30),1)) | I30: =IF(A30="","",IF(AND(SUMPRODUCT(($C$6:$G$6="必須")*(C30:G30<>""))=COUNTIF($C$6:$G$6,"必須"),COUNTIF(C30:G30,"○")>=支給項目数),日当+(COUNTIF(C30:G30,"○")-支給項目数)*加算,0)+N(H30))
A31: =IF(基準日="","25",IF(A30="","",IF(MONTH(A30+1)=MONTH(基準日),A30+1,""))) | B31: =IF(OR(A31="",基準日=""),"",MID("日月火水木金土",WEEKDAY(A31),1)) | I31: =IF(A31="","",IF(AND(SUMPRODUCT(($C$6:$G$6="必須")*(C31:G31<>""))=COUNTIF($C$6:$G$6,"必須"),COUNTIF(C31:G31,"○")>=支給項目数),日当+(COUNTIF(C31:G31,"○")-支給項目数)*加算,0)+N(H31))
A32: =IF(基準日="","26",IF(A31="","",IF(MONTH(A31+1)=MONTH(基準日),A31+1,""))) | B32: =IF(OR(A32="",基準日=""),"",MID("日月火水木金土",WEEKDAY(A32),1)) | I32: =IF(A32="","",IF(AND(SUMPRODUCT(($C$6:$G$6="必須")*(C32:G32<>""))=COUNTIF($C$6:$G$6,"必須"),COUNTIF(C32:G32,"○")>=支給項目数),日当+(COUNTIF(C32:G32,"○")-支給項目数)*加算,0)+N(H32))
A33: =IF(基準日="","27",IF(A32="","",IF(MONTH(A32+1)=MONTH(基準日),A32+1,""))) | B33: =IF(OR(A33="",基準日=""),"",MID("日月火水木金土",WEEKDAY(A33),1)) | I33: =IF(A33="","",IF(AND(SUMPRODUCT(($C$6:$G$6="必須")*(C33:G33<>""))=COUNTIF($C$6:$G$6,"必須"),COUNTIF(C33:G33,"○")>=支給項目数),日当+(COUNTIF(C33:G33,"○")-支給項目数)*加算,0)+N(H33))
A34: =IF(基準日="","28",IF(A33="","",IF(MONTH(A33+1)=MONTH(基準日),A33+1,""))) | B34: =IF(OR(A34="",基準日=""),"",MID("日月火水木金土",WEEKDAY(A34),1)) | I34: =IF(A34="","",IF(AND(SUMPRODUCT(($C$6:$G$6="必須")*(C34:G34<>""))=COUNTIF($C$6:$G$6,"必須"),COUNTIF(C34:G34,"○")>=支給項目数),日当+(COUNTIF(C34:G34,"○")-支給項目数)*加算,0)+N(H34))
A35: =IF(基準日="","29",IF(A34="","",IF(MONTH(A34+1)=MONTH(基準日),A34+1,""))) | B35: =IF(OR(A35="",基準日=""),"",MID("日月火水木金土",WEEKDAY(A35),1)) | I35: =IF(A35="","",IF(AND(SUMPRODUCT(($C$6:$G$6="必須")*(C35:G35<>""))=COUNTIF($C$6:$G$6,"必須"),COUNTIF(C35:G35,"○")>=支給項目数),日当+(COUNTIF(C35:G35,"○")-支給項目数)*加算,0)+N(H35))
A36: =IF(基準日="","30",IF(A35="","",IF(MONTH(A35+1)=MONTH(基準日),A35+1,""))) | B36: =IF(OR(A36="",基準日=""),"",MID("日月火水木金土",WEEKDAY(A36),1)) | I36: =IF(A36="","",IF(AND(SUMPRODUCT(($C$6:$G$6="必須")*(C36:G36<>""))=COUNTIF($C$6:$G$6,"必須"),COUNTIF(C36:G36,"○")>=支給項目数),日当+(COUNTIF(C36:G36,"○")-支給項目数)*加算,0)+N(H36))
A37: =IF(基準日="","31",IF(A36="","",IF(MONTH(A36+1)=MONTH(基準日),A36+1,""))) | B37: =IF(OR(A37="",基準日=""),"",MID("日月火水木金土",WEEKDAY(A37),1)) | I37: =IF(A37="","",IF(AND(SUMPRODUCT(($C$6:$G$6="必須")*(C37:G37<>""))=COUNTIF($C$6:$G$6,"必須"),COUNTIF(C37:G37,"○")>=支給項目数),日当+(COUNTIF(C37:G37,"○")-支給項目数)*加算,0)+N(H37))
A38: 日当+特別手当の合計 | G38: =SUM(I7:I37)
A39: 基本給 | G39: =基本給
A40: 今月のお小遣い | G40: =G38+G39
